BEGIN:VCALENDAR
VERSION:2.0
PRODID:icalendar-ruby
CALSCALE:GREGORIAN
METHOD:PUBLISH
BEGIN:VEVENT
DTSTAMP:20260423T130226Z
UID:http://obsidianproperty.com.au/property?property_id=1765452
DTSTART:20260425T133000
DTEND:20260425T140000
CLASS:PUBLIC
CREATED:20260423T183207
DESCRIPTION: 
LAST-MODIFIED:20260423T183434
LOCATION:B1503 / 82 Waterloo Road\, MACQUARIE PARK NSW 2113\, Australia
SUMMARY:B1503 / 82 Waterloo Road\,  Auction
URL;VALUE=URI:http://obsidianproperty.com.au/property?property_id=1765452
END:VEVENT
END:VCALENDAR
