BEGIN:VCALENDAR
VERSION:2.0
PRODID:icalendar-ruby
CALSCALE:GREGORIAN
METHOD:PUBLISH
BEGIN:VEVENT
DTSTAMP:20260423T130514Z
UID:http://obsidianproperty.com.au/property?property_id=1765453
DTSTART:20260425T163000
DTEND:20260425T170000
CLASS:PUBLIC
CREATED:20260423T203510
DESCRIPTION: 
LAST-MODIFIED:20260423T203710
LOCATION:A110 / 82 Waterloo Road\, MACQUARIE PARK NSW 2113\, Australia
SUMMARY:A110 / 82 Waterloo Road\,  Auction
URL;VALUE=URI:http://obsidianproperty.com.au/property?property_id=1765453
END:VEVENT
END:VCALENDAR
